BEGIN:VCALENDAR
VERSION:2.0
PRODID:-//Heart of Agile - ECPv5.1.4//NONSGML v1.0//EN
CALSCALE:GREGORIAN
METHOD:PUBLISH
X-WR-CALNAME:Heart of Agile
X-ORIGINAL-URL:https://heartofagile.com
X-WR-CALDESC:Events for Heart of Agile
BEGIN:VTIMEZONE
TZID:UTC
BEGIN:STANDARD
TZOFFSETFROM:+0000
TZOFFSETTO:+0000
TZNAME:UTC
DTSTART:20190101T000000
END:STANDARD
END:VTIMEZONE
BEGIN:VEVENT
DTSTART;TZID=UTC:20190704T183000
DTEND;TZID=UTC:20190704T210000
DTSTAMP:20260422T023233
CREATED:20190612T204732Z
LAST-MODIFIED:20190612T204732Z
UID:1682-1562265000-1562274000@heartofagile.com
SUMMARY:Edinburgh: Improve Meetup
DESCRIPTION:Welcome to the July edition of the Heart of Agile meet ups. This time we will focus on the improve element out of the four quadrants….. by making an improvement! \nThis iteration has kindly fallen on the Fourth of July so please embrace the spirt of our American brothers & sisters and show your love with whatever homage to the US of A that you can\, sky is the limit\, let your imagination take over! Hopefully we can get our hands on some Budweiser\, burgers\, and hotdogs to keep us going whilst we plan an improvement we can all contribute to. \nTo explore the Improve aspect of the Heart of Agile\, we are going to do a group experiment! Yes all of us so get involved\, it’s going to be fun. We’ll use the night to plan it as far as we need and we’ll time box the activities so we come out with something tangible and doable in the timeline we agree on. So what are we going to do I hear you ask? We’re going to work as a group with the availability we can all contribute and do something that’s going to help and improve a charity or not for profit of choice. We’ll deliver something of value\, collaborating as a group and we’ll inspect\, reflect\, and discuss in the following meet up in September. \nThe location and is set to be finalised. It’ll be in Edinburgh but stay tuned for final details. \nSo what do you need to bring? Nothing more than an open mind and a few ideas on who we might help and what we could do to help! Most of us are from the technology sector so let’s maybe think along those lines. However\, it doesn’t have to be as there are no rules. Only thing we need is a willingness to listen\, get involved and see where it goes. Jump on board and have some fun whilst making an improvement over beer\, burgers\, hotdogs\, and beers! \n
URL:https://heartofagile.com/event/edinburgh-improve-meetup/
END:VEVENT
END:VCALENDAR