BEGIN:VCALENDAR
VERSION:2.0
PRODID:-//Heart of Agile - ECPv5.1.4//NONSGML v1.0//EN
CALSCALE:GREGORIAN
METHOD:PUBLISH
X-WR-CALNAME:Heart of Agile
X-ORIGINAL-URL:https://heartofagile.com/?lang=fr
X-WR-CALDESC:Évènements pour Heart of Agile
BEGIN:VTIMEZONE
TZID:UTC
BEGIN:STANDARD
TZOFFSETFROM:+0000
TZOFFSETTO:+0000
TZNAME:UTC
DTSTART:20190101T000000
END:STANDARD
END:VTIMEZONE
BEGIN:VEVENT
DTSTART;TZID=UTC:20190625T190000
DTEND;TZID=UTC:20190625T190000
DTSTAMP:20260422T010726
CREATED:20190612T211319Z
LAST-MODIFIED:20190612T211319Z
UID:1687-1561489200-1561489200@heartofagile.com
SUMMARY:Paris: Meetup-prenez de la hauteur... envolez-vous
DESCRIPTION:Ça y est\, la conférence a pris son envol et se déroulera les 16 et 17 octobre prochain ! \nVenez participer à cette envolée de Heart of Agile en participant à notre meetup. \n* Comment voyez-vous le déroulement de la conférence ?\n* Comment amener les sujets au cœur de la conférence ?\n* D’ailleurs comment faites-vous pour amener les sujets de l’agilité au quotidien ? \nEt bien sûr\, aussi pour explorer comment faire battre le cœur de l’agilité dans votre contexte\, plein de belles discussions en perspective dans ce prochain meetup ! \n
URL:https://heartofagile.com/event/paris-meetup-prenez-de-la-hauteur-envolez-vous/?lang=fr
LOCATION:Groupe Capfi\, 25-17 Place de Madeleine\, Paris\, France
END:VEVENT
END:VCALENDAR