BEGIN:VCALENDAR
VERSION:2.0
PRODID:-//Heart of Agile - ECPv5.1.4//NONSGML v1.0//EN
CALSCALE:GREGORIAN
METHOD:PUBLISH
X-WR-CALNAME:Heart of Agile
X-ORIGINAL-URL:https://heartofagile.com
X-WR-CALDESC:Events for Heart of Agile
BEGIN:VTIMEZONE
TZID:Europe/Helsinki
BEGIN:DAYLIGHT
TZOFFSETFROM:+0200
TZOFFSETTO:+0300
TZNAME:EEST
DTSTART:20190331T010000
END:DAYLIGHT
BEGIN:STANDARD
TZOFFSETFROM:+0300
TZOFFSETTO:+0200
TZNAME:EET
DTSTART:20191027T010000
END:STANDARD
TZID:UTC
BEGIN:STANDARD
TZOFFSETFROM:+0000
TZOFFSETTO:+0000
TZNAME:UTC
DTSTART:20190101T000000
END:STANDARD
END:VTIMEZONE
BEGIN:VEVENT
DTSTART;TZID=Europe/Helsinki:20190205T180000
DTEND;TZID=Europe/Helsinki:20190205T210000
DTSTAMP:20260421T062512
CREATED:20181220T222806Z
LAST-MODIFIED:20181220T222806Z
UID:1129-1549389600-1549400400@heartofagile.com
SUMMARY:Helsinki: Meetup
DESCRIPTION:
URL:https://heartofagile.com/event/helsinki-meetup/
END:VEVENT
BEGIN:VEVENT
DTSTART;TZID=UTC:20190205T180000
DTEND;TZID=UTC:20190205T200000
DTSTAMP:20260421T062512
CREATED:20181228T160950Z
LAST-MODIFIED:20190320T003847Z
UID:1162-1549389600-1549396800@heartofagile.com
SUMMARY:Tampa: An Exploration of Collaboration - featuring Alistair Cockburn
DESCRIPTION:
URL:https://heartofagile.com/event/tampa-an-exploration-of-collaboration-featuring-alistair-cockburn/
LOCATION:Accusoft\, 829 Martin Luther King Jr Blvd\, Tampa\, FL\, United States
END:VEVENT
END:VCALENDAR