BEGIN:VCALENDAR
VERSION:2.0
PRODID:-//Heart of Agile - ECPv5.1.4//NONSGML v1.0//EN
CALSCALE:GREGORIAN
METHOD:PUBLISH
X-WR-CALNAME:Heart of Agile
X-ORIGINAL-URL:https://heartofagile.com
X-WR-CALDESC:Events for Heart of Agile
BEGIN:VTIMEZONE
TZID:UTC
BEGIN:STANDARD
TZOFFSETFROM:+0000
TZOFFSETTO:+0000
TZNAME:UTC
DTSTART:20190101T000000
END:STANDARD
END:VTIMEZONE
BEGIN:VEVENT
DTSTART;TZID=UTC:20190520T080000
DTEND;TZID=UTC:20190521T170000
DTSTAMP:20260423T095138
CREATED:20190429T174804Z
LAST-MODIFIED:20190429T174804Z
UID:1669-1558339200-1558458000@heartofagile.com
SUMMARY:London: Heart of Agile Course with Dr. Alistair Cockburn
DESCRIPTION:https://www.eventbrite.com/e/heart-of-agile-with-alistair-cockburn-london-tickets-60327388844 \n
URL:https://heartofagile.com/event/london-heart-of-agile-course-with-dr-alistair-cockburn/
END:VEVENT
END:VCALENDAR